BEGIN:VCALENDAR
VERSION:2.0
PRODID:-//Morgan Hill Golf Course - Easton, PA - ECPv6.15.20//NONSGML v1.0//EN
CALSCALE:GREGORIAN
METHOD:PUBLISH
X-WR-CALNAME:Morgan Hill Golf Course - Easton, PA
X-ORIGINAL-URL:https://theclubatmorganhill.com
X-WR-CALDESC:Events for Morgan Hill Golf Course - Easton, PA
REFRESH-INTERVAL;VALUE=DURATION:PT1H
X-Robots-Tag:noindex
X-PUBLISHED-TTL:PT1H
BEGIN:VTIMEZONE
TZID:UTC
BEGIN:STANDARD
TZOFFSETFROM:+0000
TZOFFSETTO:+0000
TZNAME:UTC
DTSTART:20250101T000000
END:STANDARD
END:VTIMEZONE
BEGIN:VEVENT
DTSTART;TZID=UTC:20260512T000000
DTEND;TZID=UTC:20260512T235959
DTSTAMP:20260425T153921
CREATED:20260411T173654Z
LAST-MODIFIED:20260411T175122Z
UID:10001301-1778544000-1778630399@theclubatmorganhill.com
SUMMARY:Queens of the Greens League
DESCRIPTION:Every Tuesday with Tee Times starting at 4:30pm. \n\n\n\nLeague Start Date: May 12 \n\n\n\nTo sign up call 610.923.8480 or email Jeff at jkroboth@morganhillgc.com
URL:https://theclubatmorganhill.com/event/queens-of-the-greens-league/2026-05-12/
ATTACH;FMTTYPE=image/png:https://theclubatmorganhill.com/wp-content/uploads/2026/03/2026_Queens_of_the_Greens.png
END:VEVENT
BEGIN:VEVENT
DTSTART;TZID=UTC:20260513T000000
DTEND;TZID=UTC:20260513T235959
DTSTAMP:20260425T153921
CREATED:20260411T174134Z
LAST-MODIFIED:20260413T131059Z
UID:10001044-1778630400-1778716799@theclubatmorganhill.com
SUMMARY:King of the Hill League
DESCRIPTION:Every Wednesday with Tee Times starting at 4:30pm. \n\n\n\nLeague Start Date: May 13
URL:https://theclubatmorganhill.com/event/king-of-the-hill-league/2026-05-13/
ATTACH;FMTTYPE=image/png:https://theclubatmorganhill.com/wp-content/uploads/2026/03/King_of_the_Hill_2026.png
END:VEVENT
BEGIN:VEVENT
DTSTART;TZID=UTC:20260519T000000
DTEND;TZID=UTC:20260519T235959
DTSTAMP:20260425T153921
CREATED:20260411T173654Z
LAST-MODIFIED:20260411T175122Z
UID:10001302-1779148800-1779235199@theclubatmorganhill.com
SUMMARY:Queens of the Greens League
DESCRIPTION:Every Tuesday with Tee Times starting at 4:30pm. \n\n\n\nLeague Start Date: May 12 \n\n\n\nTo sign up call 610.923.8480 or email Jeff at jkroboth@morganhillgc.com
URL:https://theclubatmorganhill.com/event/queens-of-the-greens-league/2026-05-19/
ATTACH;FMTTYPE=image/png:https://theclubatmorganhill.com/wp-content/uploads/2026/03/2026_Queens_of_the_Greens.png
END:VEVENT
BEGIN:VEVENT
DTSTART;TZID=UTC:20260520T000000
DTEND;TZID=UTC:20260520T235959
DTSTAMP:20260425T153921
CREATED:20260411T174134Z
LAST-MODIFIED:20260413T131059Z
UID:10001045-1779235200-1779321599@theclubatmorganhill.com
SUMMARY:King of the Hill League
DESCRIPTION:Every Wednesday with Tee Times starting at 4:30pm. \n\n\n\nLeague Start Date: May 13
URL:https://theclubatmorganhill.com/event/king-of-the-hill-league/2026-05-20/
ATTACH;FMTTYPE=image/png:https://theclubatmorganhill.com/wp-content/uploads/2026/03/King_of_the_Hill_2026.png
END:VEVENT
BEGIN:VEVENT
DTSTART;TZID=UTC:20260526T000000
DTEND;TZID=UTC:20260526T235959
DTSTAMP:20260425T153921
CREATED:20260411T173654Z
LAST-MODIFIED:20260411T175122Z
UID:10001303-1779753600-1779839999@theclubatmorganhill.com
SUMMARY:Queens of the Greens League
DESCRIPTION:Every Tuesday with Tee Times starting at 4:30pm. \n\n\n\nLeague Start Date: May 12 \n\n\n\nTo sign up call 610.923.8480 or email Jeff at jkroboth@morganhillgc.com
URL:https://theclubatmorganhill.com/event/queens-of-the-greens-league/2026-05-26/
ATTACH;FMTTYPE=image/png:https://theclubatmorganhill.com/wp-content/uploads/2026/03/2026_Queens_of_the_Greens.png
END:VEVENT
BEGIN:VEVENT
DTSTART;TZID=UTC:20260527T000000
DTEND;TZID=UTC:20260527T235959
DTSTAMP:20260425T153921
CREATED:20260411T174134Z
LAST-MODIFIED:20260413T131059Z
UID:10001046-1779840000-1779926399@theclubatmorganhill.com
SUMMARY:King of the Hill League
DESCRIPTION:Every Wednesday with Tee Times starting at 4:30pm. \n\n\n\nLeague Start Date: May 13
URL:https://theclubatmorganhill.com/event/king-of-the-hill-league/2026-05-27/
ATTACH;FMTTYPE=image/png:https://theclubatmorganhill.com/wp-content/uploads/2026/03/King_of_the_Hill_2026.png
END:VEVENT
BEGIN:VEVENT
DTSTART;TZID=UTC:20260602T000000
DTEND;TZID=UTC:20260602T235959
DTSTAMP:20260425T153921
CREATED:20260411T173654Z
LAST-MODIFIED:20260411T175122Z
UID:10001304-1780358400-1780444799@theclubatmorganhill.com
SUMMARY:Queens of the Greens League
DESCRIPTION:Every Tuesday with Tee Times starting at 4:30pm. \n\n\n\nLeague Start Date: May 12 \n\n\n\nTo sign up call 610.923.8480 or email Jeff at jkroboth@morganhillgc.com
URL:https://theclubatmorganhill.com/event/queens-of-the-greens-league/2026-06-02/
ATTACH;FMTTYPE=image/png:https://theclubatmorganhill.com/wp-content/uploads/2026/03/2026_Queens_of_the_Greens.png
END:VEVENT
BEGIN:VEVENT
DTSTART;TZID=UTC:20260603T000000
DTEND;TZID=UTC:20260603T235959
DTSTAMP:20260425T153921
CREATED:20260411T174134Z
LAST-MODIFIED:20260413T131059Z
UID:10001047-1780444800-1780531199@theclubatmorganhill.com
SUMMARY:King of the Hill League
DESCRIPTION:Every Wednesday with Tee Times starting at 4:30pm. \n\n\n\nLeague Start Date: May 13
URL:https://theclubatmorganhill.com/event/king-of-the-hill-league/2026-06-03/
ATTACH;FMTTYPE=image/png:https://theclubatmorganhill.com/wp-content/uploads/2026/03/King_of_the_Hill_2026.png
END:VEVENT
BEGIN:VEVENT
DTSTART;TZID=UTC:20260609T000000
DTEND;TZID=UTC:20260609T235959
DTSTAMP:20260425T153921
CREATED:20260411T173654Z
LAST-MODIFIED:20260411T175122Z
UID:10001305-1780963200-1781049599@theclubatmorganhill.com
SUMMARY:Queens of the Greens League
DESCRIPTION:Every Tuesday with Tee Times starting at 4:30pm. \n\n\n\nLeague Start Date: May 12 \n\n\n\nTo sign up call 610.923.8480 or email Jeff at jkroboth@morganhillgc.com
URL:https://theclubatmorganhill.com/event/queens-of-the-greens-league/2026-06-09/
ATTACH;FMTTYPE=image/png:https://theclubatmorganhill.com/wp-content/uploads/2026/03/2026_Queens_of_the_Greens.png
END:VEVENT
BEGIN:VEVENT
DTSTART;TZID=UTC:20260610T000000
DTEND;TZID=UTC:20260610T235959
DTSTAMP:20260425T153921
CREATED:20260411T174134Z
LAST-MODIFIED:20260413T131059Z
UID:10001048-1781049600-1781135999@theclubatmorganhill.com
SUMMARY:King of the Hill League
DESCRIPTION:Every Wednesday with Tee Times starting at 4:30pm. \n\n\n\nLeague Start Date: May 13
URL:https://theclubatmorganhill.com/event/king-of-the-hill-league/2026-06-10/
ATTACH;FMTTYPE=image/png:https://theclubatmorganhill.com/wp-content/uploads/2026/03/King_of_the_Hill_2026.png
END:VEVENT
BEGIN:VEVENT
DTSTART;TZID=UTC:20260616T000000
DTEND;TZID=UTC:20260616T235959
DTSTAMP:20260425T153921
CREATED:20260411T173654Z
LAST-MODIFIED:20260411T175122Z
UID:10001306-1781568000-1781654399@theclubatmorganhill.com
SUMMARY:Queens of the Greens League
DESCRIPTION:Every Tuesday with Tee Times starting at 4:30pm. \n\n\n\nLeague Start Date: May 12 \n\n\n\nTo sign up call 610.923.8480 or email Jeff at jkroboth@morganhillgc.com
URL:https://theclubatmorganhill.com/event/queens-of-the-greens-league/2026-06-16/
ATTACH;FMTTYPE=image/png:https://theclubatmorganhill.com/wp-content/uploads/2026/03/2026_Queens_of_the_Greens.png
END:VEVENT
BEGIN:VEVENT
DTSTART;TZID=UTC:20260617T000000
DTEND;TZID=UTC:20260617T235959
DTSTAMP:20260425T153921
CREATED:20260411T174134Z
LAST-MODIFIED:20260413T131059Z
UID:10001049-1781654400-1781740799@theclubatmorganhill.com
SUMMARY:King of the Hill League
DESCRIPTION:Every Wednesday with Tee Times starting at 4:30pm. \n\n\n\nLeague Start Date: May 13
URL:https://theclubatmorganhill.com/event/king-of-the-hill-league/2026-06-17/
ATTACH;FMTTYPE=image/png:https://theclubatmorganhill.com/wp-content/uploads/2026/03/King_of_the_Hill_2026.png
END:VEVENT
BEGIN:VEVENT
DTSTART;TZID=UTC:20260623T000000
DTEND;TZID=UTC:20260623T235959
DTSTAMP:20260425T153921
CREATED:20260411T173654Z
LAST-MODIFIED:20260411T175122Z
UID:10001307-1782172800-1782259199@theclubatmorganhill.com
SUMMARY:Queens of the Greens League
DESCRIPTION:Every Tuesday with Tee Times starting at 4:30pm. \n\n\n\nLeague Start Date: May 12 \n\n\n\nTo sign up call 610.923.8480 or email Jeff at jkroboth@morganhillgc.com
URL:https://theclubatmorganhill.com/event/queens-of-the-greens-league/2026-06-23/
ATTACH;FMTTYPE=image/png:https://theclubatmorganhill.com/wp-content/uploads/2026/03/2026_Queens_of_the_Greens.png
END:VEVENT
BEGIN:VEVENT
DTSTART;TZID=UTC:20260624T000000
DTEND;TZID=UTC:20260624T235959
DTSTAMP:20260425T153921
CREATED:20260411T174134Z
LAST-MODIFIED:20260413T131059Z
UID:10001050-1782259200-1782345599@theclubatmorganhill.com
SUMMARY:King of the Hill League
DESCRIPTION:Every Wednesday with Tee Times starting at 4:30pm. \n\n\n\nLeague Start Date: May 13
URL:https://theclubatmorganhill.com/event/king-of-the-hill-league/2026-06-24/
ATTACH;FMTTYPE=image/png:https://theclubatmorganhill.com/wp-content/uploads/2026/03/King_of_the_Hill_2026.png
END:VEVENT
BEGIN:VEVENT
DTSTART;TZID=UTC:20260630T000000
DTEND;TZID=UTC:20260630T235959
DTSTAMP:20260425T153921
CREATED:20260411T173654Z
LAST-MODIFIED:20260411T175122Z
UID:10001308-1782777600-1782863999@theclubatmorganhill.com
SUMMARY:Queens of the Greens League
DESCRIPTION:Every Tuesday with Tee Times starting at 4:30pm. \n\n\n\nLeague Start Date: May 12 \n\n\n\nTo sign up call 610.923.8480 or email Jeff at jkroboth@morganhillgc.com
URL:https://theclubatmorganhill.com/event/queens-of-the-greens-league/2026-06-30/
ATTACH;FMTTYPE=image/png:https://theclubatmorganhill.com/wp-content/uploads/2026/03/2026_Queens_of_the_Greens.png
END:VEVENT
BEGIN:VEVENT
DTSTART;TZID=UTC:20260701T000000
DTEND;TZID=UTC:20260701T235959
DTSTAMP:20260425T153921
CREATED:20260411T174134Z
LAST-MODIFIED:20260413T131059Z
UID:10001051-1782864000-1782950399@theclubatmorganhill.com
SUMMARY:King of the Hill League
DESCRIPTION:Every Wednesday with Tee Times starting at 4:30pm. \n\n\n\nLeague Start Date: May 13
URL:https://theclubatmorganhill.com/event/king-of-the-hill-league/2026-07-01/
ATTACH;FMTTYPE=image/png:https://theclubatmorganhill.com/wp-content/uploads/2026/03/King_of_the_Hill_2026.png
END:VEVENT
BEGIN:VEVENT
DTSTART;TZID=UTC:20260707T000000
DTEND;TZID=UTC:20260707T235959
DTSTAMP:20260425T153921
CREATED:20260411T173654Z
LAST-MODIFIED:20260411T175122Z
UID:10001309-1783382400-1783468799@theclubatmorganhill.com
SUMMARY:Queens of the Greens League
DESCRIPTION:Every Tuesday with Tee Times starting at 4:30pm. \n\n\n\nLeague Start Date: May 12 \n\n\n\nTo sign up call 610.923.8480 or email Jeff at jkroboth@morganhillgc.com
URL:https://theclubatmorganhill.com/event/queens-of-the-greens-league/2026-07-07/
ATTACH;FMTTYPE=image/png:https://theclubatmorganhill.com/wp-content/uploads/2026/03/2026_Queens_of_the_Greens.png
END:VEVENT
BEGIN:VEVENT
DTSTART;TZID=UTC:20260708T000000
DTEND;TZID=UTC:20260708T235959
DTSTAMP:20260425T153921
CREATED:20260411T174134Z
LAST-MODIFIED:20260413T131059Z
UID:10001052-1783468800-1783555199@theclubatmorganhill.com
SUMMARY:King of the Hill League
DESCRIPTION:Every Wednesday with Tee Times starting at 4:30pm. \n\n\n\nLeague Start Date: May 13
URL:https://theclubatmorganhill.com/event/king-of-the-hill-league/2026-07-08/
ATTACH;FMTTYPE=image/png:https://theclubatmorganhill.com/wp-content/uploads/2026/03/King_of_the_Hill_2026.png
END:VEVENT
BEGIN:VEVENT
DTSTART;TZID=UTC:20260714T000000
DTEND;TZID=UTC:20260714T235959
DTSTAMP:20260425T153921
CREATED:20260411T173654Z
LAST-MODIFIED:20260411T175122Z
UID:10001310-1783987200-1784073599@theclubatmorganhill.com
SUMMARY:Queens of the Greens League
DESCRIPTION:Every Tuesday with Tee Times starting at 4:30pm. \n\n\n\nLeague Start Date: May 12 \n\n\n\nTo sign up call 610.923.8480 or email Jeff at jkroboth@morganhillgc.com
URL:https://theclubatmorganhill.com/event/queens-of-the-greens-league/2026-07-14/
ATTACH;FMTTYPE=image/png:https://theclubatmorganhill.com/wp-content/uploads/2026/03/2026_Queens_of_the_Greens.png
END:VEVENT
BEGIN:VEVENT
DTSTART;TZID=UTC:20260715T000000
DTEND;TZID=UTC:20260715T235959
DTSTAMP:20260425T153921
CREATED:20260411T174134Z
LAST-MODIFIED:20260413T131059Z
UID:10001053-1784073600-1784159999@theclubatmorganhill.com
SUMMARY:King of the Hill League
DESCRIPTION:Every Wednesday with Tee Times starting at 4:30pm. \n\n\n\nLeague Start Date: May 13
URL:https://theclubatmorganhill.com/event/king-of-the-hill-league/2026-07-15/
ATTACH;FMTTYPE=image/png:https://theclubatmorganhill.com/wp-content/uploads/2026/03/King_of_the_Hill_2026.png
END:VEVENT
BEGIN:VEVENT
DTSTART;TZID=UTC:20260721T000000
DTEND;TZID=UTC:20260721T235959
DTSTAMP:20260425T153921
CREATED:20260411T173654Z
LAST-MODIFIED:20260411T175122Z
UID:10001311-1784592000-1784678399@theclubatmorganhill.com
SUMMARY:Queens of the Greens League
DESCRIPTION:Every Tuesday with Tee Times starting at 4:30pm. \n\n\n\nLeague Start Date: May 12 \n\n\n\nTo sign up call 610.923.8480 or email Jeff at jkroboth@morganhillgc.com
URL:https://theclubatmorganhill.com/event/queens-of-the-greens-league/2026-07-21/
ATTACH;FMTTYPE=image/png:https://theclubatmorganhill.com/wp-content/uploads/2026/03/2026_Queens_of_the_Greens.png
END:VEVENT
BEGIN:VEVENT
DTSTART;TZID=UTC:20260722T000000
DTEND;TZID=UTC:20260722T235959
DTSTAMP:20260425T153921
CREATED:20260411T174134Z
LAST-MODIFIED:20260413T131059Z
UID:10001054-1784678400-1784764799@theclubatmorganhill.com
SUMMARY:King of the Hill League
DESCRIPTION:Every Wednesday with Tee Times starting at 4:30pm. \n\n\n\nLeague Start Date: May 13
URL:https://theclubatmorganhill.com/event/king-of-the-hill-league/2026-07-22/
ATTACH;FMTTYPE=image/png:https://theclubatmorganhill.com/wp-content/uploads/2026/03/King_of_the_Hill_2026.png
END:VEVENT
BEGIN:VEVENT
DTSTART;TZID=UTC:20260728T000000
DTEND;TZID=UTC:20260728T235959
DTSTAMP:20260425T153921
CREATED:20260411T173654Z
LAST-MODIFIED:20260411T175122Z
UID:10001312-1785196800-1785283199@theclubatmorganhill.com
SUMMARY:Queens of the Greens League
DESCRIPTION:Every Tuesday with Tee Times starting at 4:30pm. \n\n\n\nLeague Start Date: May 12 \n\n\n\nTo sign up call 610.923.8480 or email Jeff at jkroboth@morganhillgc.com
URL:https://theclubatmorganhill.com/event/queens-of-the-greens-league/2026-07-28/
ATTACH;FMTTYPE=image/png:https://theclubatmorganhill.com/wp-content/uploads/2026/03/2026_Queens_of_the_Greens.png
END:VEVENT
BEGIN:VEVENT
DTSTART;TZID=UTC:20260729T000000
DTEND;TZID=UTC:20260729T235959
DTSTAMP:20260425T153921
CREATED:20260411T174134Z
LAST-MODIFIED:20260413T131059Z
UID:10001055-1785283200-1785369599@theclubatmorganhill.com
SUMMARY:King of the Hill League
DESCRIPTION:Every Wednesday with Tee Times starting at 4:30pm. \n\n\n\nLeague Start Date: May 13
URL:https://theclubatmorganhill.com/event/king-of-the-hill-league/2026-07-29/
ATTACH;FMTTYPE=image/png:https://theclubatmorganhill.com/wp-content/uploads/2026/03/King_of_the_Hill_2026.png
END:VEVENT
BEGIN:VEVENT
DTSTART;TZID=UTC:20260804T000000
DTEND;TZID=UTC:20260804T235959
DTSTAMP:20260425T153921
CREATED:20260411T173654Z
LAST-MODIFIED:20260411T175122Z
UID:10001313-1785801600-1785887999@theclubatmorganhill.com
SUMMARY:Queens of the Greens League
DESCRIPTION:Every Tuesday with Tee Times starting at 4:30pm. \n\n\n\nLeague Start Date: May 12 \n\n\n\nTo sign up call 610.923.8480 or email Jeff at jkroboth@morganhillgc.com
URL:https://theclubatmorganhill.com/event/queens-of-the-greens-league/2026-08-04/
ATTACH;FMTTYPE=image/png:https://theclubatmorganhill.com/wp-content/uploads/2026/03/2026_Queens_of_the_Greens.png
END:VEVENT
BEGIN:VEVENT
DTSTART;TZID=UTC:20260805T000000
DTEND;TZID=UTC:20260805T235959
DTSTAMP:20260425T153921
CREATED:20260411T174134Z
LAST-MODIFIED:20260413T131059Z
UID:10001056-1785888000-1785974399@theclubatmorganhill.com
SUMMARY:King of the Hill League
DESCRIPTION:Every Wednesday with Tee Times starting at 4:30pm. \n\n\n\nLeague Start Date: May 13
URL:https://theclubatmorganhill.com/event/king-of-the-hill-league/2026-08-05/
ATTACH;FMTTYPE=image/png:https://theclubatmorganhill.com/wp-content/uploads/2026/03/King_of_the_Hill_2026.png
END:VEVENT
BEGIN:VEVENT
DTSTART;TZID=UTC:20260811T000000
DTEND;TZID=UTC:20260811T235959
DTSTAMP:20260425T153921
CREATED:20260411T173654Z
LAST-MODIFIED:20260411T175122Z
UID:10001314-1786406400-1786492799@theclubatmorganhill.com
SUMMARY:Queens of the Greens League
DESCRIPTION:Every Tuesday with Tee Times starting at 4:30pm. \n\n\n\nLeague Start Date: May 12 \n\n\n\nTo sign up call 610.923.8480 or email Jeff at jkroboth@morganhillgc.com
URL:https://theclubatmorganhill.com/event/queens-of-the-greens-league/2026-08-11/
ATTACH;FMTTYPE=image/png:https://theclubatmorganhill.com/wp-content/uploads/2026/03/2026_Queens_of_the_Greens.png
END:VEVENT
BEGIN:VEVENT
DTSTART;TZID=UTC:20260812T000000
DTEND;TZID=UTC:20260812T235959
DTSTAMP:20260425T153921
CREATED:20260411T174134Z
LAST-MODIFIED:20260413T131059Z
UID:10001057-1786492800-1786579199@theclubatmorganhill.com
SUMMARY:King of the Hill League
DESCRIPTION:Every Wednesday with Tee Times starting at 4:30pm. \n\n\n\nLeague Start Date: May 13
URL:https://theclubatmorganhill.com/event/king-of-the-hill-league/2026-08-12/
ATTACH;FMTTYPE=image/png:https://theclubatmorganhill.com/wp-content/uploads/2026/03/King_of_the_Hill_2026.png
END:VEVENT
BEGIN:VEVENT
DTSTART;TZID=UTC:20260818T000000
DTEND;TZID=UTC:20260818T235959
DTSTAMP:20260425T153921
CREATED:20260411T173654Z
LAST-MODIFIED:20260411T175122Z
UID:10001315-1787011200-1787097599@theclubatmorganhill.com
SUMMARY:Queens of the Greens League
DESCRIPTION:Every Tuesday with Tee Times starting at 4:30pm. \n\n\n\nLeague Start Date: May 12 \n\n\n\nTo sign up call 610.923.8480 or email Jeff at jkroboth@morganhillgc.com
URL:https://theclubatmorganhill.com/event/queens-of-the-greens-league/2026-08-18/
ATTACH;FMTTYPE=image/png:https://theclubatmorganhill.com/wp-content/uploads/2026/03/2026_Queens_of_the_Greens.png
END:VEVENT
BEGIN:VEVENT
DTSTART;TZID=UTC:20260819T000000
DTEND;TZID=UTC:20260819T235959
DTSTAMP:20260425T153921
CREATED:20260411T174134Z
LAST-MODIFIED:20260413T131059Z
UID:10001058-1787097600-1787183999@theclubatmorganhill.com
SUMMARY:King of the Hill League
DESCRIPTION:Every Wednesday with Tee Times starting at 4:30pm. \n\n\n\nLeague Start Date: May 13
URL:https://theclubatmorganhill.com/event/king-of-the-hill-league/2026-08-19/
ATTACH;FMTTYPE=image/png:https://theclubatmorganhill.com/wp-content/uploads/2026/03/King_of_the_Hill_2026.png
END:VEVENT
END:VCALENDAR