BEGIN:VCALENDAR
VERSION:2.0
PRODID:-//Morgan Hill Golf Course - Easton, PA - ECPv6.15.20//NONSGML v1.0//EN
CALSCALE:GREGORIAN
METHOD:PUBLISH
X-WR-CALNAME:Morgan Hill Golf Course - Easton, PA
X-ORIGINAL-URL:https://theclubatmorganhill.com
X-WR-CALDESC:Events for Morgan Hill Golf Course - Easton, PA
REFRESH-INTERVAL;VALUE=DURATION:PT1H
X-Robots-Tag:noindex
X-PUBLISHED-TTL:PT1H
BEGIN:VTIMEZONE
TZID:UTC
BEGIN:STANDARD
TZOFFSETFROM:+0000
TZOFFSETTO:+0000
TZNAME:UTC
DTSTART:20250101T000000
END:STANDARD
END:VTIMEZONE
BEGIN:VEVENT
DTSTART;TZID=UTC:20260508T000000
DTEND;TZID=UTC:20260508T235959
DTSTAMP:20260425T134329
CREATED:20260411T171843Z
LAST-MODIFIED:20260411T182354Z
UID:10000007-1778198400-1778284799@theclubatmorganhill.com
SUMMARY:Cinco de Mayo Scramble
DESCRIPTION:
URL:https://theclubatmorganhill.com/event/cinco-de-mayo-scramble/
ATTACH;FMTTYPE=image/png:https://theclubatmorganhill.com/wp-content/uploads/2026/04/2026_Cinco_de_Golf.png
END:VEVENT
BEGIN:VEVENT
DTSTART;TZID=UTC:20260511T000000
DTEND;TZID=UTC:20260511T235959
DTSTAMP:20260425T134329
CREATED:20260411T172008Z
LAST-MODIFIED:20260411T175232Z
UID:10001335-1778457600-1778543999@theclubatmorganhill.com
SUMMARY:Silver Tees Senior Golf League
DESCRIPTION:Silver Tees: Men’s and Women’s Senior Golf League – to sign up call the Pro Shop Today: 610.923.8480 or email Jeff at jkroboth@morganhillgc.com \n\n\n\nEvery Monday with Tee Times starting at 9am.  \n\n\n\nLeague Start Date: May 11
URL:https://theclubatmorganhill.com/event/silver-tees-senior-golf-league/2026-05-11/
ATTACH;FMTTYPE=image/png:https://theclubatmorganhill.com/wp-content/uploads/2026/03/2026_Silver_Tees.png
END:VEVENT
BEGIN:VEVENT
DTSTART;TZID=UTC:20260512T000000
DTEND;TZID=UTC:20260512T235959
DTSTAMP:20260425T134329
CREATED:20260411T173654Z
LAST-MODIFIED:20260411T175122Z
UID:10001301-1778544000-1778630399@theclubatmorganhill.com
SUMMARY:Queens of the Greens League
DESCRIPTION:Every Tuesday with Tee Times starting at 4:30pm. \n\n\n\nLeague Start Date: May 12 \n\n\n\nTo sign up call 610.923.8480 or email Jeff at jkroboth@morganhillgc.com
URL:https://theclubatmorganhill.com/event/queens-of-the-greens-league/2026-05-12/
ATTACH;FMTTYPE=image/png:https://theclubatmorganhill.com/wp-content/uploads/2026/03/2026_Queens_of_the_Greens.png
END:VEVENT
BEGIN:VEVENT
DTSTART;TZID=UTC:20260514T000000
DTEND;TZID=UTC:20260514T235959
DTSTAMP:20260425T134329
CREATED:20260411T183219Z
LAST-MODIFIED:20260411T183358Z
UID:10001370-1778716800-1778803199@theclubatmorganhill.com
SUMMARY:Clink It and Sink It Golf League
DESCRIPTION:2026 Clink It and Sink It League – To sign up call 610.923.8480 or email Jeff at jkroboth@morganhillgc.com  \n\n\n\nEvery Thursday with Tee Times starting at 4:30pm. League Start Date: May 14 \n\n\n\n\nLeague info and Rules\n\n\n\n\n\n\n\n\nView Event↗
URL:https://theclubatmorganhill.com/event/clink-it-and-sink-it-golf-league/2026-05-14/
ATTACH;FMTTYPE=image/png:https://theclubatmorganhill.com/wp-content/uploads/2026/03/2026_Clink_It_and_Sink_it.png
END:VEVENT
BEGIN:VEVENT
DTSTART;TZID=UTC:20260626T170000
DTEND;TZID=UTC:20260626T170000
DTSTAMP:20260425T134329
CREATED:20260411T183513Z
LAST-MODIFIED:20260411T183542Z
UID:10001404-1782493200-1782493200@theclubatmorganhill.com
SUMMARY:3 Club Classic
DESCRIPTION:
URL:https://theclubatmorganhill.com/event/3-club-classic/
ATTACH;FMTTYPE=image/png:https://theclubatmorganhill.com/wp-content/uploads/2026/04/2026_3_Club_Classic.png
END:VEVENT
BEGIN:VEVENT
DTSTART;TZID=UTC:20260726T090000
DTEND;TZID=UTC:20260726T090000
DTSTAMP:20260425T134329
CREATED:20260411T183642Z
LAST-MODIFIED:20260411T183643Z
UID:10001405-1785056400-1785056400@theclubatmorganhill.com
SUMMARY:Summer Slam
DESCRIPTION:
URL:https://theclubatmorganhill.com/event/summer-slam/
ATTACH;FMTTYPE=image/png:https://theclubatmorganhill.com/wp-content/uploads/2026/04/2026_Summer_Slam.png
END:VEVENT
BEGIN:VEVENT
DTSTART;TZID=UTC:20260830T090000
DTEND;TZID=UTC:20260830T090000
DTSTAMP:20260425T134329
CREATED:20260411T183746Z
LAST-MODIFIED:20260411T183747Z
UID:10001406-1788080400-1788080400@theclubatmorganhill.com
SUMMARY:8 Inch Cup
DESCRIPTION:
URL:https://theclubatmorganhill.com/event/8-inch-cup/
ATTACH;FMTTYPE=image/png:https://theclubatmorganhill.com/wp-content/uploads/2026/04/2026_8_Inch_Cup.png
END:VEVENT
BEGIN:VEVENT
DTSTART;TZID=UTC:20260913T000000
DTEND;TZID=UTC:20260913T235959
DTSTAMP:20260425T134329
CREATED:20260411T183830Z
LAST-MODIFIED:20260411T183913Z
UID:10001407-1789257600-1789343999@theclubatmorganhill.com
SUMMARY:Club Championship
DESCRIPTION:
URL:https://theclubatmorganhill.com/event/club-championship/
ATTACH;FMTTYPE=image/png:https://theclubatmorganhill.com/wp-content/uploads/2026/04/club_champ_2026a.png
END:VEVENT
BEGIN:VEVENT
DTSTART;TZID=UTC:20261016T170000
DTEND;TZID=UTC:20261016T170000
DTSTAMP:20260425T134329
CREATED:20260411T184006Z
LAST-MODIFIED:20260411T184007Z
UID:10001408-1792170000-1792170000@theclubatmorganhill.com
SUMMARY:Haunt the Hill
DESCRIPTION:
URL:https://theclubatmorganhill.com/event/haunt-the-hill/
ATTACH;FMTTYPE=image/png:https://theclubatmorganhill.com/wp-content/uploads/2026/04/2026_Haunt_the_Hill.png
END:VEVENT
BEGIN:VEVENT
DTSTART;TZID=UTC:20261108T100000
DTEND;TZID=UTC:20261108T100000
DTSTAMP:20260425T134329
CREATED:20260411T184103Z
LAST-MODIFIED:20260411T184105Z
UID:10001409-1794132000-1794132000@theclubatmorganhill.com
SUMMARY:Turkey Scramble
DESCRIPTION:
URL:https://theclubatmorganhill.com/event/turkey-scramble/
ATTACH;FMTTYPE=image/png:https://theclubatmorganhill.com/wp-content/uploads/2026/04/turkey_2026.png
END:VEVENT
END:VCALENDAR